BEGIN:VCALENDAR
VERSION:2.0
PRODID:-//We are Richmond - ECPv4.6.26.1//NONSGML v1.0//EN
CALSCALE:GREGORIAN
METHOD:PUBLISH
X-WR-CALNAME:We are Richmond
X-ORIGINAL-URL:http://wearerichmond.co.nz
X-WR-CALDESC:Events for We are Richmond
BEGIN:VEVENT
DTSTART;TZID=Pacific/Auckland:20181130T163000
DTEND;TZID=Pacific/Auckland:20181130T200000
DTSTAMP:20181222T025718
CREATED:20181127T055155Z
LAST-MODIFIED:20181127T055155Z
UID:171-1543595400-1543608000@wearerichmond.co.nz
SUMMARY:Avebury House Christmas Night Market
DESCRIPTION:
URL:http://wearerichmond.co.nz/event/avebury-house-christmas-night-market/
LOCATION:Avebury House\, 9 Eveleyn Couzins Avenue
CATEGORIES:Market
END:VEVENT
BEGIN:VEVENT
DTSTART;TZID=Pacific/Auckland:20181130T190000
DTEND;TZID=Pacific/Auckland:20181130T230000
DTSTAMP:20181222T025718
CREATED:20181127T055014Z
LAST-MODIFIED:20181127T055014Z
UID:168-1543604400-1543618800@wearerichmond.co.nz
SUMMARY:Hot Gossip
DESCRIPTION:
URL:http://wearerichmond.co.nz/event/hot-gossip/
LOCATION:Richmond Working Mans Club\, 75 London Street
CATEGORIES:Live Music
END:VEVENT
BEGIN:VEVENT
DTSTART;TZID=Pacific/Auckland:20181201T190000
DTEND;TZID=Pacific/Auckland:20181201T230000
DTSTAMP:20181222T025718
CREATED:20181127T055305Z
LAST-MODIFIED:20181127T055305Z
UID:174-1543690800-1543705200@wearerichmond.co.nz
SUMMARY:Rockabella
DESCRIPTION:
URL:http://wearerichmond.co.nz/event/rockabella/
LOCATION:Richmond Working Mans Club\, 75 London Street
CATEGORIES:Live Music
END:VEVENT
BEGIN:VEVENT
DTSTART;TZID=Pacific/Auckland:20181203T100000
DTEND;TZID=Pacific/Auckland:20181203T103000
DTSTAMP:20181222T025718
CREATED:20181127T055428Z
LAST-MODIFIED:20181127T055428Z
UID:176-1543831200-1543833000@wearerichmond.co.nz
SUMMARY:Chit Chat Club
DESCRIPTION:
URL:http://wearerichmond.co.nz/event/chit-chat-club/
LOCATION:Richmond Working Mans Club\, 75 London Street
CATEGORIES:Community
END:VEVENT
END:VCALENDAR